BEGIN:VCALENDAR
VERSION:2.0
PRODID:www.gruene-wangen.de
METHOD:PUBLISH
BEGIN:VTIMEZONE
TZID:Europe/Berlin
X-LIC-LOCATION:Europe/Berlin
BEGIN:DAYLIGHT
TZOFFSETFROM:+0100
TZOFFSETTO:+0200
TZNAME:CEST
DTSTART:19700329T020000
RRULE:FREQ=YEARLY;INTERVAL=1;BYDAY=-1SU;BYMONTH=3
END:DAYLIGHT
BEGIN:STANDARD
TZOFFSETFROM:+0200
TZOFFSETTO:+0100
TZNAME:CET
DTSTART:19701025T030000
RRULE:FREQ=YEARLY;INTERVAL=1;BYDAY=-1SU;BYMONTH=10
END:STANDARD
END:VTIMEZONE
BEGIN:VEVENT
UID:d0cb3034b4d19e59a19e553ed36ec0c3@www.gruene-wangen.de
URL;VALUE=URI:https://www.gruene-wangen.de/termine/gol-stammtisch-bericht
 -aus-dem-gemeinderat/
LOCATION:Museumscafe, Lange Gasse 1, Wangen
SUMMARY:GOL Stammtisch: Bericht aus dem Gemeinderat
DESCRIPTION;ALTREP="data:text/html,%0A%3Cp%3EDie%20GOL%20Wangen%20l%C3%A4
 dt%20alle%20Mitglieder%2C%20Sympathisant%2Ainnen%20und%20B%C3%BCrger%2Ain
 nen%20am%20Mittwoch%2C%208.%20November%2C%2019%20Uhr%2C%20zur%20n%C3%A4ch
 sten%20%C3%B6ffentlichen%20GOL%20Veranstaltung%20im%20Museumscafe%20in%20
 Wangen%2C%20Lange%20Gasse%201.%3C%2Fp%3E%0A%0A%0A%0A%3Cp%3EThemen%20werde
 n%20unter%20anderem%20die%20autoarme%20Altstadt%20in%20Wangen%2C%20Parken
 %20in%20Wangen%20und%20die%20Kinderbetreuung%20und%20Schwierigkeiten%20hi
 erbei%20sein.%3C%2Fp%3E%0A%0A%0A%0A%3Cp%3ENat%C3%BCrlich%20wird%20es%20au
 ch%20ausreichend%20Zeit%20geben%20um%20eigene%20themen%20anzusprechen%20u
 nd%20Fragen%20zu%20stellen%3C%2Fp%3E%0A%0A%0A%0A%3Cp%3EDie%20GOL%20freut%
 20sich%20auf%20eine%20interessante%20Veranstaltung%2C%20zu%20der%20wie%20
 immer%20Mitglieder%20und%20auch%20G%C3%A4ste%20au%C3%9Ferhalb%20der%20GOL
 %20herzlich%20willkommen%20sind.%3C%2Fp%3E%0A":Die GOL Wangen lädt alle 
 Mitglieder\, Sympathisant*innen und Bürger*innen am Mittwoch\, 8. Novemb
 er\, 19 Uhr\, zur nächsten öffentlichen GOL Veranstaltung im Museumscaf
 e in Wangen\, Lange Gasse 1.\n\nThemen werden unter anderem die autoarme 
 Altstadt in Wangen\, Parken in Wangen und die Kinderbetreuung und Schwier
 igkeiten hierbei sein.\n\nNatürlich wird es auch ausreichend Zeit geben 
 um eigene themen anzusprechen und Fragen zu stellen\n\nDie GOL freut sich
  auf eine interessante Veranstaltung\, zu der wie immer Mitglieder und au
 ch Gäste außerhalb der GOL herzlich willkommen sind.
CLASS:PUBLIC
DTSTART;TZID=Europe/Berlin:20231108T190000
DTEND;TZID=Europe/Berlin:20231108T210000
DTSTAMP:20260419T203908
END:VEVENT
END:VCALENDAR