BEGIN:VCALENDAR
VERSION:2.0
PRODID:www.gruene-wangen.de
METHOD:PUBLISH
BEGIN:VTIMEZONE
TZID:Europe/Berlin
X-LIC-LOCATION:Europe/Berlin
BEGIN:DAYLIGHT
TZOFFSETFROM:+0100
TZOFFSETTO:+0200
TZNAME:CEST
DTSTART:19700329T020000
RRULE:FREQ=YEARLY;INTERVAL=1;BYDAY=-1SU;BYMONTH=3
END:DAYLIGHT
BEGIN:STANDARD
TZOFFSETFROM:+0200
TZOFFSETTO:+0100
TZNAME:CET
DTSTART:19701025T030000
RRULE:FREQ=YEARLY;INTERVAL=1;BYDAY=-1SU;BYMONTH=10
END:STANDARD
END:VTIMEZONE
BEGIN:VEVENT
UID:afe4e24340743f1d7b64fa4cdba64793@www.gruene-wangen.de
URL;VALUE=URI:https://www.gruene-wangen.de/termine/sonder-kmv/
LOCATION:Firma Bambeli, Espantorstraße 10, Isny
SUMMARY:Sonder-KMV
DESCRIPTION;ALTREP="data:text/html,%0A%3Cp%3EAm%C2%A0%3Cstrong%3EDonnerst
 ag%2C%2016.%20Januar%3C%2Fstrong%3E%202025%20findet%20ab%20%3Cstrong%3E20
 .00%20Uhr%3C%2Fstrong%3E%C2%A0eine%C2%A0%3Cstrong%3ESonder-Kreismitgliede
 rversammlung%3C%2Fstrong%3E%C2%A0in%20den%20R%C3%A4umlichkeiten%20der%C2%
 A0%3Cstrong%3EFirma%20Bambeli%3C%2Fstrong%3E%C2%A0in%20der%C2%A0%3Cstrong
 %3EEspantorstra%C3%9Fe%2010%3C%2Fstrong%3E%C2%A0in%20%3Cstrong%3EIsny%3C%
 2Fstrong%3E%C2%A0statt.%3Cbr%3EEinziger%20Tagesordnungspunkt%20ist%20die%
 20Wahl%20der%20Delegierten%20f%C3%BCr%20die%20au%C3%9Ferordentliche%20Bun
 desdelegiertenkonferenz%20am%20Sonntag%2C%2026.%20Januar%202025%20in%20Be
 rlin.%20Dort%20wird%20unser%20Wahlprogramm%20diskutiert%20und%20beschloss
 en.%3Cbr%3EDem%20Kreisvorstand%20liegen%20bereits%20zwei%20Bewerbungen%20
 f%C3%BCr%20die%20Delegiertenwahlen%20vor.%20Nat%C3%BCrlich%20k%C3%B6nnen%
 20sich%20auch%20noch%20weitere%20Mitglieder%20f%C3%BCr%20den%20Delegierte
 n-%20bzw.%20den%20Ersatzdelegiertenplatz%20zur%20Wahl%20stellen%20lassen.
 %3C%2Fp%3E%0A%0A%0A%0A%3Cp%3EIm%20Anschluss%20an%20die%20Wahlen%20haben%2
 0wir%20sicher%20noch%20gen%C3%BCgend%20Zeit%2C%20um%20euch%20%C3%BCber%20
 den%20augenblicklichen%20Stand%20des%20Wahlkampfes%20zu%20informieren%20u
 nd%20uns%20%C3%BCber%20die%20allgemeine%20politische%20Situation%20auszut
 auschen.%3C%2Fp%3E%0A%0A%0A%0A%3Cp%3EHier%20nochmal%20auf%20einen%20Blick
 %20die%20Infos%20f%C3%BCr%20die%20Sonder-KMV%3A%3C%2Fp%3E%0A%0A%0A%0A%3Cp
 %3EWir%20freuen%20uns%20%C3%BCber%20euer%20Kommen%20und%20verbleiben%20mi
 t%20herzlichen%20Gr%C3%BC%C3%9Fen.%3C%2Fp%3E%0A%0A%0A%0A%3Cp%3EDer%20Krei
 svorstand%3C%2Fp%3E%0A":Am Donnerstag\, 16. Januar 2025 findet ab 20.00 
 Uhr eine Sonder-Kreismitgliederversammlung in den Räumlichkeiten der
  Firma Bambeli in der Espantorstraße 10 in Isny statt.Einziger Tage
 sordnungspunkt ist die Wahl der Delegierten für die außerordentliche Bu
 ndesdelegiertenkonferenz am Sonntag\, 26. Januar 2025 in Berlin. Dort wir
 d unser Wahlprogramm diskutiert und beschlossen.Dem Kreisvorstand liegen 
 bereits zwei Bewerbungen für die Delegiertenwahlen vor. Natürlich könn
 en sich auch noch weitere Mitglieder für den Delegierten- bzw. den Ersat
 zdelegiertenplatz zur Wahl stellen lassen.\n\nIm Anschluss an die Wahlen 
 haben wir sicher noch genügend Zeit\, um euch über den augenblicklichen
  Stand des Wahlkampfes zu informieren und uns über die allgemeine politi
 sche Situation auszutauschen.\n\nHier nochmal auf einen Blick die Infos f
 ür die Sonder-KMV:\n\nWir freuen uns über euer Kommen und verbleiben mi
 t herzlichen Grüßen.\n\nDer Kreisvorstand
CLASS:PUBLIC
DTSTART;TZID=Europe/Berlin:20250116T200000
DTEND;TZID=Europe/Berlin:20250116T210000
DTSTAMP:20260421T172538
END:VEVENT
END:VCALENDAR